BEGIN:VCALENDAR
VERSION:2.0
PRODID:-//Mt. Pleasant Martial Arts - ECPv6.15.20//NONSGML v1.0//EN
CALSCALE:GREGORIAN
METHOD:PUBLISH
X-ORIGINAL-URL:https://mpmartialarts.com
X-WR-CALDESC:Events for Mt. Pleasant Martial Arts
REFRESH-INTERVAL;VALUE=DURATION:PT1H
X-Robots-Tag:noindex
X-PUBLISHED-TTL:PT1H
BEGIN:VTIMEZONE
TZID:UTC
BEGIN:STANDARD
TZOFFSETFROM:+0000
TZOFFSETTO:+0000
TZNAME:UTC
DTSTART:20240101T000000
END:STANDARD
END:VTIMEZONE
BEGIN:VEVENT
DTSTART;VALUE=DATE:20250315
DTEND;VALUE=DATE:20250316
DTSTAMP:20260420T010739
CREATED:20250308T175207Z
LAST-MODIFIED:20250308T175207Z
UID:672-1741996800-1742083199@mpmartialarts.com
SUMMARY:In-school Tournament
DESCRIPTION:This is a Class C ATA Taekwondo tournament to be held at Mt. Pleasant Martial Arts. Click here to register now.
URL:https://mpmartialarts.com/event/in-school-tournament-4/
LOCATION:MPMA\, 206 W Michigan St\, Mt. Pleasant\, MI\, 48858\, United States
CATEGORIES:Tournaments
END:VEVENT
END:VCALENDAR