BEGIN:VCALENDAR
VERSION:2.0
PRODID:-//Mt. Pleasant Martial Arts - ECPv6.15.20//NONSGML v1.0//EN
CALSCALE:GREGORIAN
METHOD:PUBLISH
X-ORIGINAL-URL:https://mpmartialarts.com
X-WR-CALDESC:Events for Mt. Pleasant Martial Arts
REFRESH-INTERVAL;VALUE=DURATION:PT1H
X-Robots-Tag:noindex
X-PUBLISHED-TTL:PT1H
BEGIN:VTIMEZONE
TZID:UTC
BEGIN:STANDARD
TZOFFSETFROM:+0000
TZOFFSETTO:+0000
TZNAME:UTC
DTSTART:20240101T000000
END:STANDARD
END:VTIMEZONE
BEGIN:VEVENT
DTSTART;TZID=UTC:20250214T173000
DTEND;TZID=UTC:20250214T203000
DTSTAMP:20260419T151631
CREATED:20250130T000233Z
LAST-MODIFIED:20250130T000233Z
UID:654-1739554200-1739565000@mpmartialarts.com
SUMMARY:Parent's Night Out/Nerf Wars
DESCRIPTION:This is a nerf-themed Parents’ Night Out event. Drop-off will be at 5:30 PM and we will start the Nerf Wars at 6:00. Pick-up is at 8:30. The cost is $50 per student. Friends and siblings of current students are also welcome to attend\, ages 5-12. All Nerf bullets and eye protection will be provided. We have some Nerf guns\, but you are encouraged to bring your own. Pizza and snacks will also be provided. \nSign up here.
URL:https://mpmartialarts.com/event/parents-night-out-nerf-wars-4/
LOCATION:MPMA\, 206 W Michigan St\, Mt. Pleasant\, MI\, 48858\, United States
CATEGORIES:Special Events
END:VEVENT
END:VCALENDAR