BEGIN:VCALENDAR
VERSION:2.0
PRODID:-//Mt. Pleasant Martial Arts - ECPv6.15.20//NONSGML v1.0//EN
CALSCALE:GREGORIAN
METHOD:PUBLISH
X-ORIGINAL-URL:https://mpmartialarts.com
X-WR-CALDESC:Events for Mt. Pleasant Martial Arts
REFRESH-INTERVAL;VALUE=DURATION:PT1H
X-Robots-Tag:noindex
X-PUBLISHED-TTL:PT1H
BEGIN:VTIMEZONE
TZID:UTC
BEGIN:STANDARD
TZOFFSETFROM:+0000
TZOFFSETTO:+0000
TZNAME:UTC
DTSTART:20230101T000000
END:STANDARD
END:VTIMEZONE
BEGIN:VEVENT
DTSTART;TZID=UTC:20240624T100000
DTEND;TZID=UTC:20240627T140000
DTSTAMP:20260420T045427
CREATED:20240516T213602Z
LAST-MODIFIED:20240516T213602Z
UID:494-1719223200-1719496800@mpmartialarts.com
SUMMARY:Rank Advancement Training
DESCRIPTION:This four day training camp is open to new students\, current color belt students\, and for the first time\, black belts*. We do two months of training in four days and test for our next rank at the end of the fourth day. Spots are limited. Click here to register. \n*Black belts will learn a new weapon form but will not test for rank.
URL:https://mpmartialarts.com/event/rank-advancement-training/
LOCATION:MPMA\, 206 W Michigan St\, Mt. Pleasant\, MI\, 48858\, United States
CATEGORIES:Special Events
END:VEVENT
END:VCALENDAR