BEGIN:VCALENDAR
VERSION:2.0
PRODID:-//Mt. Pleasant Martial Arts - ECPv6.15.20//NONSGML v1.0//EN
CALSCALE:GREGORIAN
METHOD:PUBLISH
X-ORIGINAL-URL:https://mpmartialarts.com
X-WR-CALDESC:Events for Mt. Pleasant Martial Arts
REFRESH-INTERVAL;VALUE=DURATION:PT1H
X-Robots-Tag:noindex
X-PUBLISHED-TTL:PT1H
BEGIN:VTIMEZONE
TZID:UTC
BEGIN:STANDARD
TZOFFSETFROM:+0000
TZOFFSETTO:+0000
TZNAME:UTC
DTSTART:20230101T000000
END:STANDARD
END:VTIMEZONE
BEGIN:VEVENT
DTSTART;TZID=UTC:20240322T170000
DTEND;TZID=UTC:20240322T190000
DTSTAMP:20260420T094130
CREATED:20240307T193950Z
LAST-MODIFIED:20240307T193950Z
UID:462-1711126800-1711134000@mpmartialarts.com
SUMMARY:Women's Month Self-Defense Seminar
DESCRIPTION:Every year in March we hold a FREE self-defense seminar to celebrate Women’s Month. This event is open to ages 13 and up. Stop by from 5-7pm to learn what our self-defense program is all about and get a good workout.
URL:https://mpmartialarts.com/event/womens-month-self-defense-seminar/
LOCATION:MPMA\, 206 W Michigan St\, Mt. Pleasant\, MI\, 48858\, United States
CATEGORIES:Special Events
END:VEVENT
END:VCALENDAR