BEGIN:VCALENDAR
VERSION:2.0
PRODID:-//Mt. Pleasant Martial Arts - ECPv6.15.20//NONSGML v1.0//EN
CALSCALE:GREGORIAN
METHOD:PUBLISH
X-ORIGINAL-URL:https://mpmartialarts.com
X-WR-CALDESC:Events for Mt. Pleasant Martial Arts
REFRESH-INTERVAL;VALUE=DURATION:PT1H
X-Robots-Tag:noindex
X-PUBLISHED-TTL:PT1H
BEGIN:VTIMEZONE
TZID:UTC
BEGIN:STANDARD
TZOFFSETFROM:+0000
TZOFFSETTO:+0000
TZNAME:UTC
DTSTART:20240101T000000
END:STANDARD
END:VTIMEZONE
BEGIN:VEVENT
DTSTART;TZID=UTC:20250227T180000
DTEND;TZID=UTC:20250227T193000
DTSTAMP:20260419T120338
CREATED:20250206T004943Z
LAST-MODIFIED:20250206T005310Z
UID:659-1740679200-1740684600@mpmartialarts.com
SUMMARY:Adult Color Belt/Black Belt Testing
DESCRIPTION:Testing begins at 6pm. Students can register here.
URL:https://mpmartialarts.com/event/adult-color-belt-black-belt-testing/
LOCATION:MPMA\, 206 W Michigan St\, Mt. Pleasant\, MI\, 48858\, United States
CATEGORIES:Graduation/Testing
END:VEVENT
END:VCALENDAR